BEGIN:VCALENDAR
VERSION:2.0
PRODID:-//Halifax Humane Society - ECPv6.15.20//NONSGML v1.0//EN
CALSCALE:GREGORIAN
METHOD:PUBLISH
X-WR-CALNAME:Halifax Humane Society
X-ORIGINAL-URL:https://www.halifaxhumanesociety.org
X-WR-CALDESC:Events for Halifax Humane Society
REFRESH-INTERVAL;VALUE=DURATION:PT1H
X-Robots-Tag:noindex
X-PUBLISHED-TTL:PT1H
BEGIN:VTIMEZONE
TZID:America/New_York
BEGIN:DAYLIGHT
TZOFFSETFROM:-0500
TZOFFSETTO:-0400
TZNAME:EDT
DTSTART:20240310T070000
END:DAYLIGHT
BEGIN:STANDARD
TZOFFSETFROM:-0400
TZOFFSETTO:-0500
TZNAME:EST
DTSTART:20241103T060000
END:STANDARD
BEGIN:DAYLIGHT
TZOFFSETFROM:-0500
TZOFFSETTO:-0400
TZNAME:EDT
DTSTART:20250309T070000
END:DAYLIGHT
BEGIN:STANDARD
TZOFFSETFROM:-0400
TZOFFSETTO:-0500
TZNAME:EST
DTSTART:20251102T060000
END:STANDARD
BEGIN:DAYLIGHT
TZOFFSETFROM:-0500
TZOFFSETTO:-0400
TZNAME:EDT
DTSTART:20260308T070000
END:DAYLIGHT
BEGIN:STANDARD
TZOFFSETFROM:-0400
TZOFFSETTO:-0500
TZNAME:EST
DTSTART:20261101T060000
END:STANDARD
BEGIN:DAYLIGHT
TZOFFSETFROM:-0500
TZOFFSETTO:-0400
TZNAME:EDT
DTSTART:20270314T070000
END:DAYLIGHT
BEGIN:STANDARD
TZOFFSETFROM:-0400
TZOFFSETTO:-0500
TZNAME:EST
DTSTART:20271107T060000
END:STANDARD
END:VTIMEZONE
BEGIN:VEVENT
DTSTART;VALUE=DATE:20260131
DTEND;VALUE=DATE:20260201
DTSTAMP:20260424T163548
CREATED:20260126T161756Z
LAST-MODIFIED:20260126T162750Z
UID:781140-1769817600-1769903999@www.halifaxhumanesociety.org
SUMMARY:Dogs Day Out
DESCRIPTION:Saturday\, January 31st\nDog’s Day Out with Tri Sigma Sorority\nIf your organization is interested in hosting a Dog’s Day Out\, contact volunteers@halifaxhumanesociety.org\nIf you would like to learn more about the Dog’s Day Out Program\, please click here.
URL:https://www.halifaxhumanesociety.org/event/dogs-day-out/
LOCATION:FL
END:VEVENT
BEGIN:VEVENT
DTSTART;TZID=America/New_York:20260205T120000
DTEND;TZID=America/New_York:20260205T133000
DTSTAMP:20260424T163548
CREATED:20260109T212326Z
LAST-MODIFIED:20260109T212326Z
UID:780783-1770292800-1770298200@www.halifaxhumanesociety.org
SUMMARY:Safe Handling Training Thursday
DESCRIPTION:Sign Up Here: https://halifaxhumanesociety.galaxydigital.com/need/detail/?need_id=1091163
URL:https://www.halifaxhumanesociety.org/event/safe-handling-training-thursday-4/
LOCATION:Halifax Humane Society\, 2364 LPGA Blvd.\, Daytona Beach\, FL\, 32124\, United States
END:VEVENT
BEGIN:VEVENT
DTSTART;TZID=America/New_York:20260129T120000
DTEND;TZID=America/New_York:20260129T133000
DTSTAMP:20260424T163548
CREATED:20260109T212301Z
LAST-MODIFIED:20260109T212301Z
UID:780781-1769688000-1769693400@www.halifaxhumanesociety.org
SUMMARY:Safe Handling Training Thursday
DESCRIPTION:Sign Up Here: https://halifaxhumanesociety.galaxydigital.com/need/detail/?need_id=1091163
URL:https://www.halifaxhumanesociety.org/event/safe-handling-training-thursday-3/
LOCATION:Halifax Humane Society\, 2364 LPGA Blvd.\, Daytona Beach\, FL\, 32124\, United States
END:VEVENT
BEGIN:VEVENT
DTSTART;TZID=America/New_York:20260124T100000
DTEND;TZID=America/New_York:20260124T120000
DTSTAMP:20260424T163548
CREATED:20260109T210904Z
LAST-MODIFIED:20260109T210904Z
UID:780757-1769248800-1769256000@www.halifaxhumanesociety.org
SUMMARY:Volunteer Orientation Saturday
DESCRIPTION:Sign up here: https://halifaxhumanesociety.galaxydigital.com/need/detail/?need_id=1072001
URL:https://www.halifaxhumanesociety.org/event/volunteer-orientation-saturday-2/
LOCATION:Halifax Humane Society\, 2364 LPGA Blvd.\, Daytona Beach\, FL\, 32124\, United States
END:VEVENT
BEGIN:VEVENT
DTSTART;TZID=America/New_York:20260124T090000
DTEND;TZID=America/New_York:20260124T170000
DTSTAMP:20260424T163548
CREATED:20260108T224827Z
LAST-MODIFIED:20260108T224827Z
UID:780632-1769245200-1769274000@www.halifaxhumanesociety.org
SUMMARY:Manatee Festival
DESCRIPTION:
URL:https://www.halifaxhumanesociety.org/event/manatee-festival/
LOCATION:FL
END:VEVENT
BEGIN:VEVENT
DTSTART;TZID=America/New_York:20260122T120000
DTEND;TZID=America/New_York:20260122T133000
DTSTAMP:20260424T163548
CREATED:20260109T212025Z
LAST-MODIFIED:20260109T212025Z
UID:780779-1769083200-1769088600@www.halifaxhumanesociety.org
SUMMARY:Safe Handling Training Thursday
DESCRIPTION:Sign Up Here: https://halifaxhumanesociety.galaxydigital.com/need/detail/?need_id=1091163
URL:https://www.halifaxhumanesociety.org/event/safe-handling-training-thursday-2/
LOCATION:Halifax Humane Society\, 2364 LPGA Blvd.\, Daytona Beach\, FL\, 32124\, United States
END:VEVENT
BEGIN:VEVENT
DTSTART;TZID=America/New_York:20260120T130000
DTEND;TZID=America/New_York:20260120T150000
DTSTAMP:20260424T163548
CREATED:20260109T213054Z
LAST-MODIFIED:20260109T213054Z
UID:780799-1768914000-1768921200@www.halifaxhumanesociety.org
SUMMARY:Leash Handling Training Tuesday
DESCRIPTION:Sign up here: https://halifaxhumanesociety.galaxydigital.com/need/detail/?need_id=1092334
URL:https://www.halifaxhumanesociety.org/event/leash-handling-training-tuesday-2/
LOCATION:Halifax Humane Society\, 2364 LPGA Blvd.\, Daytona Beach\, FL\, 32124\, United States
END:VEVENT
BEGIN:VEVENT
DTSTART;TZID=America/New_York:20260118T130000
DTEND;TZID=America/New_York:20260118T150000
DTSTAMP:20260424T163548
CREATED:20260109T210406Z
LAST-MODIFIED:20260109T210406Z
UID:780755-1768741200-1768748400@www.halifaxhumanesociety.org
SUMMARY:Volunteer Orientation Sunday
DESCRIPTION:Sign up here: https://halifaxhumanesociety.galaxydigital.com/need/detail/?need_id=1072001
URL:https://www.halifaxhumanesociety.org/event/volunteer-orientation-sunday/
LOCATION:Halifax Humane Society\, 2364 LPGA Blvd.\, Daytona Beach\, FL\, 32124\, United States
END:VEVENT
BEGIN:VEVENT
DTSTART;TZID=America/New_York:20260117T140000
DTEND;TZID=America/New_York:20260117T152500
DTSTAMP:20260424T163548
CREATED:20260109T204617Z
LAST-MODIFIED:20260109T204622Z
UID:780655-1768658400-1768663500@www.halifaxhumanesociety.org
SUMMARY:CatVideoFest 2025
DESCRIPTION:Get your tickets here: https://cinematique.easy-ware-ticketing.com/generaladmission/E3qoChZ9bQK3DwUEsJ5h3Q
URL:https://www.halifaxhumanesociety.org/event/catvideofest-2025-5/
LOCATION:The Cinematique\, 242 S Beach St\, Daytona Beach\, FL\, United States
END:VEVENT
BEGIN:VEVENT
DTSTART;TZID=America/New_York:20260117T100000
DTEND;TZID=America/New_York:20260117T140000
DTSTAMP:20260424T163548
CREATED:20260108T220621Z
LAST-MODIFIED:20260108T220621Z
UID:780614-1768644000-1768658400@www.halifaxhumanesociety.org
SUMMARY:PetSmart Joy Adoption Event
DESCRIPTION:
URL:https://www.halifaxhumanesociety.org/event/petsmart-joy-adoption-event/
LOCATION:PetSmart\, 1900 W International Speedway Blvd\, Daytona Beach\, 32114
END:VEVENT
BEGIN:VEVENT
DTSTART;TZID=America/New_York:20260116T151500
DTEND;TZID=America/New_York:20260116T164000
DTSTAMP:20260424T163548
CREATED:20260109T204514Z
LAST-MODIFIED:20260109T204514Z
UID:780653-1768576500-1768581600@www.halifaxhumanesociety.org
SUMMARY:CatVideoFest 2025
DESCRIPTION:Get your tickets here: https://cinematique.easy-ware-ticketing.com/generaladmission/bW3qlqO3Qcl426ckh31HNg
URL:https://www.halifaxhumanesociety.org/event/catvideofest-2025-4/
LOCATION:The Cinematique\, 242 S Beach St\, Daytona Beach\, FL\, United States
END:VEVENT
BEGIN:VEVENT
DTSTART;TZID=America/New_York:20260115T120000
DTEND;TZID=America/New_York:20260115T133000
DTSTAMP:20260424T163548
CREATED:20260109T211949Z
LAST-MODIFIED:20260109T211949Z
UID:780777-1768478400-1768483800@www.halifaxhumanesociety.org
SUMMARY:Safe Handling Training Thursday
DESCRIPTION:Sign Up Here: https://halifaxhumanesociety.galaxydigital.com/need/detail/?need_id=1091163
URL:https://www.halifaxhumanesociety.org/event/safe-handling-training-thursday/
LOCATION:Halifax Humane Society\, 2364 LPGA Blvd.\, Daytona Beach\, FL\, 32124\, United States
END:VEVENT
BEGIN:VEVENT
DTSTART;TZID=America/New_York:20260114T160000
DTEND;TZID=America/New_York:20260114T174000
DTSTAMP:20260424T163548
CREATED:20260109T204430Z
LAST-MODIFIED:20260109T204430Z
UID:780651-1768406400-1768412400@www.halifaxhumanesociety.org
SUMMARY:CatVideoFest 2025
DESCRIPTION:Get your tickets here: https://cinematique.easy-ware-ticketing.com/generaladmission/bW3qlqO3Qcl426ckh31HNg
URL:https://www.halifaxhumanesociety.org/event/catvideofest-2025-3/
LOCATION:The Cinematique\, 242 S Beach St\, Daytona Beach\, FL\, United States
END:VEVENT
BEGIN:VEVENT
DTSTART;TZID=America/New_York:20260114T123000
DTEND;TZID=America/New_York:20260114T143000
DTSTAMP:20260424T163548
CREATED:20260109T210326Z
LAST-MODIFIED:20260109T210326Z
UID:780753-1768393800-1768401000@www.halifaxhumanesociety.org
SUMMARY:Volunteer Orientation Wednesday
DESCRIPTION:Sign up here: https://halifaxhumanesociety.galaxydigital.com/need/detail/?need_id=1072001
URL:https://www.halifaxhumanesociety.org/event/volunteer-orientation-wednesday/
LOCATION:Halifax Humane Society\, 2364 LPGA Blvd.\, Daytona Beach\, FL\, 32124\, United States
END:VEVENT
BEGIN:VEVENT
DTSTART;TZID=America/New_York:20260113T140000
DTEND;TZID=America/New_York:20260113T160000
DTSTAMP:20260424T163548
CREATED:20260109T213027Z
LAST-MODIFIED:20260109T213027Z
UID:780797-1768312800-1768320000@www.halifaxhumanesociety.org
SUMMARY:Leash Handling Training Saturday
DESCRIPTION:Sign up here: https://halifaxhumanesociety.galaxydigital.com/need/detail/?need_id=1092334
URL:https://www.halifaxhumanesociety.org/event/leash-handling-training-saturday/
LOCATION:Halifax Humane Society\, 2364 LPGA Blvd.\, Daytona Beach\, FL\, 32124\, United States
END:VEVENT
BEGIN:VEVENT
DTSTART;TZID=America/New_York:20260113T130000
DTEND;TZID=America/New_York:20260113T150000
DTSTAMP:20260424T163548
CREATED:20260109T212953Z
LAST-MODIFIED:20260109T212953Z
UID:780795-1768309200-1768316400@www.halifaxhumanesociety.org
SUMMARY:Leash Handling Training Tuesday
DESCRIPTION:Sign up here: https://halifaxhumanesociety.galaxydigital.com/need/detail/?need_id=1092334
URL:https://www.halifaxhumanesociety.org/event/leash-handling-training-tuesday/
LOCATION:Halifax Humane Society\, 2364 LPGA Blvd.\, Daytona Beach\, FL\, 32124\, United States
END:VEVENT
BEGIN:VEVENT
DTSTART;TZID=America/New_York:20260111T130000
DTEND;TZID=America/New_York:20260111T142500
DTSTAMP:20260424T163548
CREATED:20260109T204154Z
LAST-MODIFIED:20260109T204154Z
UID:780649-1768136400-1768141500@www.halifaxhumanesociety.org
SUMMARY:CatVideoFest 2025
DESCRIPTION:Get your tickets here: https://cinematique.easy-ware-ticketing.com/generaladmission/lGTHIdrkhm7j5MiJjNaoUw
URL:https://www.halifaxhumanesociety.org/event/catvideofest-2025-2/
LOCATION:The Cinematique\, 242 S Beach St\, Daytona Beach\, FL\, United States
END:VEVENT
BEGIN:VEVENT
DTSTART;TZID=America/New_York:20260110T140000
DTEND;TZID=America/New_York:20260110T152500
DTSTAMP:20260424T163548
CREATED:20260109T203953Z
LAST-MODIFIED:20260109T203953Z
UID:780645-1768053600-1768058700@www.halifaxhumanesociety.org
SUMMARY:CatVideoFest 2025
DESCRIPTION:Get your tickets here: https://cinematique.easy-ware-ticketing.com/generaladmission/b7yCd9Cf-1_GRQdLkRxU3A
URL:https://www.halifaxhumanesociety.org/event/catvideofest-2025/
LOCATION:The Cinematique\, 242 S Beach St\, Daytona Beach\, FL\, United States
END:VEVENT
BEGIN:VEVENT
DTSTART;TZID=America/New_York:20260110T120000
DTEND;TZID=America/New_York:20260110T133000
DTSTAMP:20260424T163548
CREATED:20260109T211910Z
LAST-MODIFIED:20260109T211910Z
UID:780775-1768046400-1768051800@www.halifaxhumanesociety.org
SUMMARY:Safe Handling Training Saturday
DESCRIPTION:Sign Up Here: https://halifaxhumanesociety.galaxydigital.com/need/detail/?need_id=1091163
URL:https://www.halifaxhumanesociety.org/event/safe-handling-training-saturday/
LOCATION:Halifax Humane Society\, 2364 LPGA Blvd.\, Daytona Beach\, FL\, 32124\, United States
END:VEVENT
BEGIN:VEVENT
DTSTART;TZID=America/New_York:20260110T100000
DTEND;TZID=America/New_York:20260110T120000
DTSTAMP:20260424T163548
CREATED:20260109T210250Z
LAST-MODIFIED:20260109T210250Z
UID:780751-1768039200-1768046400@www.halifaxhumanesociety.org
SUMMARY:Volunteer Orientation Saturday
DESCRIPTION:Sign up here: https://halifaxhumanesociety.galaxydigital.com/need/detail/?need_id=1072001
URL:https://www.halifaxhumanesociety.org/event/volunteer-orientation-saturday/
LOCATION:Halifax Humane Society\, 2364 LPGA Blvd.\, Daytona Beach\, FL\, 32124\, United States
END:VEVENT
BEGIN:VEVENT
DTSTART;TZID=America/New_York:20260109T080000
DTEND;TZID=America/New_York:20260109T170000
DTSTAMP:20260424T163548
CREATED:20260107T144235Z
LAST-MODIFIED:20260107T144235Z
UID:780576-1767945600-1767978000@www.halifaxhumanesociety.org
SUMMARY:WESH 2 the Rescue
DESCRIPTION:with Christel Fleming\, Director of Life Saving Operations
URL:https://www.halifaxhumanesociety.org/event/wesh-2-the-rescue/
LOCATION:FL
END:VEVENT
BEGIN:VEVENT
DTSTART;TZID=America/New_York:20251230T130000
DTEND;TZID=America/New_York:20251230T150000
DTSTAMP:20260424T163548
CREATED:20251117T222955Z
LAST-MODIFIED:20251117T222955Z
UID:779512-1767099600-1767106800@www.halifaxhumanesociety.org
SUMMARY:Leash Handling Training
DESCRIPTION:Sign up here: https://halifaxhumanesociety.galaxydigital.com/need/detail/?need_id=1092334
URL:https://www.halifaxhumanesociety.org/event/leash-handling-training-23/
LOCATION:Halifax Humane Society\, 2364 LPGA Blvd.\, Daytona Beach\, FL\, 32124\, United States
END:VEVENT
BEGIN:VEVENT
DTSTART;TZID=America/New_York:20251227T100000
DTEND;TZID=America/New_York:20251227T110000
DTSTAMP:20260424T163548
CREATED:20251117T220659Z
LAST-MODIFIED:20251117T220659Z
UID:779488-1766829600-1766833200@www.halifaxhumanesociety.org
SUMMARY:Volunteer Orientation Saturday
DESCRIPTION:Sign up here: https://halifaxhumanesociety.galaxydigital.com/need/detail/?need_id=1072001
URL:https://www.halifaxhumanesociety.org/event/volunteer-orientation-saturday-13/
LOCATION:Halifax Humane Society\, 2364 LPGA Blvd.\, Daytona Beach\, FL\, 32124\, United States
END:VEVENT
BEGIN:VEVENT
DTSTART;VALUE=DATE:20251224
DTEND;VALUE=DATE:20251225
DTSTAMP:20260424T163548
CREATED:20250530T135133Z
LAST-MODIFIED:20250530T135133Z
UID:475626-1766534400-1766620799@www.halifaxhumanesociety.org
SUMMARY:Board Meeting
DESCRIPTION:
URL:https://www.halifaxhumanesociety.org/event/board-meeting-5/
LOCATION:Halifax Humane Society\, 2364 LPGA Blvd.\, Daytona Beach\, FL\, 32124\, United States
END:VEVENT
BEGIN:VEVENT
DTSTART;TZID=America/New_York:20251223T130000
DTEND;TZID=America/New_York:20251223T150000
DTSTAMP:20260424T163548
CREATED:20251117T222931Z
LAST-MODIFIED:20251117T222931Z
UID:779510-1766494800-1766502000@www.halifaxhumanesociety.org
SUMMARY:Leash Handling Training
DESCRIPTION:Sign up here: https://halifaxhumanesociety.galaxydigital.com/need/detail/?need_id=1092334
URL:https://www.halifaxhumanesociety.org/event/leash-handling-training-22/
LOCATION:Halifax Humane Society\, 2364 LPGA Blvd.\, Daytona Beach\, FL\, 32124\, United States
END:VEVENT
BEGIN:VEVENT
DTSTART;TZID=America/New_York:20251220T100000
DTEND;TZID=America/New_York:20251220T110000
DTSTAMP:20260424T163548
CREATED:20251117T220624Z
LAST-MODIFIED:20251117T220624Z
UID:779486-1766224800-1766228400@www.halifaxhumanesociety.org
SUMMARY:Volunteer Orientation Saturday
DESCRIPTION:Sign up here: https://halifaxhumanesociety.galaxydigital.com/need/detail/?need_id=1072001
URL:https://www.halifaxhumanesociety.org/event/volunteer-orientation-saturday-12/
LOCATION:Halifax Humane Society\, 2364 LPGA Blvd.\, Daytona Beach\, FL\, 32124\, United States
END:VEVENT
BEGIN:VEVENT
DTSTART;TZID=America/New_York:20251219T080000
DTEND;TZID=America/New_York:20251223T170000
DTSTAMP:20260424T163549
CREATED:20251218T200842Z
LAST-MODIFIED:20251218T200842Z
UID:780245-1766131200-1766509200@www.halifaxhumanesociety.org
SUMMARY:Deck the Paws Adoption Event
DESCRIPTION:CAT Adoption Pricing\n$125 \nIncludes \nAdoption Fee $50 \nCat Carrier $35 \nLitterbox $10 \nWorld’s Best Cat Litter $19 \nToys and Catnip $10 \nMini scratcher $5 \nHill’s Food $25 \nNexguard Combo 1 month $26 \nValue $180 \n$200 \nIncludes \nAdoption Fee $50 \nCat Carrier $35 \nLitterbox $10 \nWorld’s Best Cat Litter $19 \nToys and Catnip $10 \nMini scratcher $5 \nHill’s Food $25 \nNexguard Combo 6 months $155 \nValue $309 \nDOG Adoption Pricing\n$150 \nIncludes \nAdoption Fee $75-$150 \nCollar $15 \nLeash $15 \nPersonalized Tag $15 \nToys $20 \nHill’s Food $50 \nHeartguard 6 months $75 \nValue $265-$340 \n$250 \nIncludes \nAdoption Fee $75-$150 \nCollar $15 \nLeash $15 \nPersonalized Tag $15 \nToys $20 \nHill’s Food $50 \nNexguard Plus 6 months $200 \nValue $390-465
URL:https://www.halifaxhumanesociety.org/event/deck-the-paws-adoption-event/
LOCATION:FL
END:VEVENT
BEGIN:VEVENT
DTSTART;TZID=America/New_York:20251218T120000
DTEND;TZID=America/New_York:20251218T133000
DTSTAMP:20260424T163549
CREATED:20251117T222425Z
LAST-MODIFIED:20251117T222425Z
UID:779496-1766059200-1766064600@www.halifaxhumanesociety.org
SUMMARY:Safe Handling Training
DESCRIPTION:Sign Up Here: https://halifaxhumanesociety.galaxydigital.com/need/detail/?need_id=1091163
URL:https://www.halifaxhumanesociety.org/event/safe-handling-training-14/
LOCATION:Halifax Humane Society\, 2364 LPGA Blvd.\, Daytona Beach\, FL\, 32124\, United States
END:VEVENT
BEGIN:VEVENT
DTSTART;TZID=America/New_York:20251217T180000
DTEND;TZID=America/New_York:20251217T193000
DTSTAMP:20260424T163549
CREATED:20251118T192615Z
LAST-MODIFIED:20251118T205842Z
UID:779530-1765994400-1765999800@www.halifaxhumanesociety.org
SUMMARY:4th Annual Howliday Pet Parade
DESCRIPTION:Experience the magic of “A December to Remember” in Downtown Daytona Beach with our 4th Annual Howliday Pet Parade! \nBring your well-behaved pups and show off their holiday spirit—whether they’re rocking a festive costume\, or you’re twinning in a matching outfit! Our panel of three judges will be handing out prizes for Best Dressed\, Most Creative\, and Judge’s Favorite. 🎁🐶 \nEven if you don’t have a pup\, come join the fun as a spectator and cheer on the four-legged stars of the night! \n✨ Stroll along the sparkling holiday light display\n✨ Take in the beautiful waterfront views\n✨ Support a great cause—entry is free\, but in lieu of a fee\, we kindly ask for a donation of cash\, pet food\, beds\, toys\, or supplies to benefit the Halifax Humane Society. \n📅 Event Details: \nParade Begins: 6:00pm \nAwards Ceremony: 7:00pm \n🎟️ Click here to register you and your pet!
URL:https://www.halifaxhumanesociety.org/event/4th-annual-howliday-pet-parade/
LOCATION:Riverfront Esplanade\, 179 S Beach St\, Daytona Beach\, FL\, 32114\, United States
ATTACH;FMTTYPE=image/jpeg:https://www.halifaxhumanesociety.org/wp-content/uploads/2025/11/ADTR-2025-Pet-Parade-Event-Banner-01.jpg
END:VEVENT
BEGIN:VEVENT
DTSTART;TZID=America/New_York:20251216T130000
DTEND;TZID=America/New_York:20251216T150000
DTSTAMP:20260424T163549
CREATED:20251117T222856Z
LAST-MODIFIED:20251117T222856Z
UID:779508-1765890000-1765897200@www.halifaxhumanesociety.org
SUMMARY:Leash Handling Training
DESCRIPTION:Sign up here: https://halifaxhumanesociety.galaxydigital.com/need/detail/?need_id=1092334
URL:https://www.halifaxhumanesociety.org/event/leash-handling-training-21/
LOCATION:Halifax Humane Society\, 2364 LPGA Blvd.\, Daytona Beach\, FL\, 32124\, United States
END:VEVENT
END:VCALENDAR