BEGIN:VCALENDAR
VERSION:2.0
PRODID:-//Halifax Humane Society - ECPv6.15.20//NONSGML v1.0//EN
CALSCALE:GREGORIAN
METHOD:PUBLISH
X-ORIGINAL-URL:https://www.halifaxhumanesociety.org
X-WR-CALDESC:Events for Halifax Humane Society
REFRESH-INTERVAL;VALUE=DURATION:PT1H
X-Robots-Tag:noindex
X-PUBLISHED-TTL:PT1H
BEGIN:VTIMEZONE
TZID:America/New_York
BEGIN:DAYLIGHT
TZOFFSETFROM:-0500
TZOFFSETTO:-0400
TZNAME:EDT
DTSTART:20250309T070000
END:DAYLIGHT
BEGIN:STANDARD
TZOFFSETFROM:-0400
TZOFFSETTO:-0500
TZNAME:EST
DTSTART:20251102T060000
END:STANDARD
BEGIN:DAYLIGHT
TZOFFSETFROM:-0500
TZOFFSETTO:-0400
TZNAME:EDT
DTSTART:20260308T070000
END:DAYLIGHT
BEGIN:STANDARD
TZOFFSETFROM:-0400
TZOFFSETTO:-0500
TZNAME:EST
DTSTART:20261101T060000
END:STANDARD
BEGIN:DAYLIGHT
TZOFFSETFROM:-0500
TZOFFSETTO:-0400
TZNAME:EDT
DTSTART:20270314T070000
END:DAYLIGHT
BEGIN:STANDARD
TZOFFSETFROM:-0400
TZOFFSETTO:-0500
TZNAME:EST
DTSTART:20271107T060000
END:STANDARD
END:VTIMEZONE
BEGIN:VEVENT
DTSTART;VALUE=DATE:20260409
DTEND;VALUE=DATE:20260410
DTSTAMP:20260424T175227
CREATED:20260127T173552Z
LAST-MODIFIED:20260127T173552Z
UID:781182-1775692800-1775779199@www.halifaxhumanesociety.org
SUMMARY:Running Buddies
DESCRIPTION:Saturday\, February 5th\nRunning Buddies with Marine ROTC\nIf your organization is interested in hosting a Running Buddies\, contact volunteers@halifaxhumanesociety.org
URL:https://www.halifaxhumanesociety.org/event/running-buddies-10/
LOCATION:FL
END:VEVENT
BEGIN:VEVENT
DTSTART;VALUE=DATE:20260411
DTEND;VALUE=DATE:20260412
DTSTAMP:20260424T175227
CREATED:20260219T214059Z
LAST-MODIFIED:20260227T220328Z
UID:781678-1775865600-1775951999@www.halifaxhumanesociety.org
SUMMARY:Dogs Day Out
DESCRIPTION:Saturday\, April 11th\nDogs Day Out with Tri Sigma – Eta Tau (ERAU)\nIf your organization is interested in hosting a Dog’s Day Out\, contact chrismcd@halifaxhumanesociety.org\nIf you would like to learn more about the Dog’s Day Out Program\, please click here.
URL:https://www.halifaxhumanesociety.org/event/dogs-day-out-7/
LOCATION:FL
END:VEVENT
BEGIN:VEVENT
DTSTART;TZID=America/New_York:20260411T100000
DTEND;TZID=America/New_York:20260411T113000
DTSTAMP:20260424T175227
CREATED:20260326T175009Z
LAST-MODIFIED:20260327T194125Z
UID:782433-1775901600-1775907000@www.halifaxhumanesociety.org
SUMMARY:Volunteer Orientation Saturday
DESCRIPTION:Sign up here: https://halifaxhumanesociety.galaxydigital.com/need/detail/?need_id=1072001
URL:https://www.halifaxhumanesociety.org/event/volunteer-orientation-saturday-7/
LOCATION:Halifax Humane Society\, 2364 LPGA Blvd.\, Daytona Beach\, FL\, 32124\, United States
END:VEVENT
BEGIN:VEVENT
DTSTART;TZID=America/New_York:20260415T123000
DTEND;TZID=America/New_York:20260415T140000
DTSTAMP:20260424T175227
CREATED:20260326T180655Z
LAST-MODIFIED:20260326T180936Z
UID:782445-1776256200-1776261600@www.halifaxhumanesociety.org
SUMMARY:Volunteer Orientation Wednesday
DESCRIPTION:Sign up here: https://halifaxhumanesociety.galaxydigital.com/need/detail/?need_id=1072001
URL:https://www.halifaxhumanesociety.org/event/volunteer-orientation-wednesday-5/
LOCATION:Halifax Humane Society\, 2364 LPGA Blvd.\, Daytona Beach\, FL\, 32124\, United States
END:VEVENT
BEGIN:VEVENT
DTSTART;VALUE=DATE:20260416
DTEND;VALUE=DATE:20260417
DTSTAMP:20260424T175227
CREATED:20260127T173553Z
LAST-MODIFIED:20260227T220323Z
UID:781183-1776297600-1776383999@www.halifaxhumanesociety.org
SUMMARY:Running Buddies
DESCRIPTION:Saturday\, February 5th\nRunning Buddies with Marine ROTC\nIf your organization is interested in hosting a Running Buddies\, contact chrismcd@halifaxhumanesociety.org
URL:https://www.halifaxhumanesociety.org/event/running-buddies-11/
LOCATION:FL
END:VEVENT
BEGIN:VEVENT
DTSTART;TZID=America/New_York:20260417T114500
DTEND;TZID=America/New_York:20260417T123000
DTSTAMP:20260424T175227
CREATED:20260107T144358Z
LAST-MODIFIED:20260406T200759Z
UID:780580-1776426300-1776429000@www.halifaxhumanesociety.org
SUMMARY:WESH 2 the Rescue
DESCRIPTION:
URL:https://www.halifaxhumanesociety.org/event/wesh-2-the-rescue-3/
LOCATION:FL
END:VEVENT
BEGIN:VEVENT
DTSTART;TZID=America/New_York:20260418T100000
DTEND;TZID=America/New_York:20260418T170000
DTSTAMP:20260424T175227
CREATED:20260418T211634Z
LAST-MODIFIED:20260418T212742Z
UID:783068-1776506400-1776531600@www.halifaxhumanesociety.org
SUMMARY:2026 Ormond Beach Celtic Festival
DESCRIPTION:Join us at the 15th Annual Ormond Beach Celtic Festival on April 18–19\, 2026\, from 10:00AM – 5:00PM at Rockefeller Gardens (25 Riverside Dr\, Ormond Beach). Adoptable pets will be there ready to meet their future families\, making it the perfect chance to enjoy the festival while helping a pet in need. To learn more\, please visit the festival website: https://ormondbeachmainstreet.com/celticfestival2026/
URL:https://www.halifaxhumanesociety.org/event/ormond-beach-celtic-festival/
LOCATION:FL
END:VEVENT
BEGIN:VEVENT
DTSTART;TZID=America/New_York:20260419T100000
DTEND;TZID=America/New_York:20260419T170000
DTSTAMP:20260424T175227
CREATED:20260418T211919Z
LAST-MODIFIED:20260418T212345Z
UID:783070-1776592800-1776618000@www.halifaxhumanesociety.org
SUMMARY:2026 Ormond Beach Celtic Festival
DESCRIPTION:Join us at the 15th Annual Ormond Beach Celtic Festival on April 18–19\, 2026\, from 10:00AM – 5:00PM at Rockefeller Gardens (25 Riverside Dr\, Ormond Beach). Adoptable pets will be there ready to meet their future families\, making it the perfect chance to enjoy the festival while helping a pet in need. To learn more\, please visit the festival website: https://ormondbeachmainstreet.com/celticfestival2026/
URL:https://www.halifaxhumanesociety.org/event/ormond-beach-celtic-festival-2/
LOCATION:FL
END:VEVENT
BEGIN:VEVENT
DTSTART;VALUE=DATE:20260423
DTEND;VALUE=DATE:20260424
DTSTAMP:20260424T175227
CREATED:20260127T173553Z
LAST-MODIFIED:20260227T220318Z
UID:781184-1776902400-1776988799@www.halifaxhumanesociety.org
SUMMARY:Running Buddies
DESCRIPTION:Saturday\, February 5th\nRunning Buddies with Marine ROTC\nIf your organization is interested in hosting a Running Buddies\, contact chrismcd@halifaxhumanesociety.org
URL:https://www.halifaxhumanesociety.org/event/running-buddies-12/
LOCATION:FL
END:VEVENT
BEGIN:VEVENT
DTSTART;TZID=America/New_York:20260425T100000
DTEND;TZID=America/New_York:20260425T140000
DTSTAMP:20260424T175227
CREATED:20260424T194201Z
LAST-MODIFIED:20260424T194201Z
UID:783176-1777111200-1777125600@www.halifaxhumanesociety.org
SUMMARY:PetSmart Adopt Joy Event
DESCRIPTION:
URL:https://www.halifaxhumanesociety.org/event/petsmart-adopt-joy-event/
LOCATION:1900 W International Speedway Blvd Daytona Beach\, FL 32114\, 1900 W International Speedway Blvd\, Daytona Beach\, FL\, 32114\, United States
END:VEVENT
BEGIN:VEVENT
DTSTART;TZID=America/New_York:20260425T120000
DTEND;TZID=America/New_York:20260425T180000
DTSTAMP:20260424T175227
CREATED:20260422T140100Z
LAST-MODIFIED:20260422T140211Z
UID:783134-1777118400-1777140000@www.halifaxhumanesociety.org
SUMMARY:Free Adoption Event Sponsored by Hill’s Pet Nutrition
DESCRIPTION:Thanks to our partners at Hill’s Pet Nutrition\, all dog and cat adoptions are completely free on Saturday from 12 PM to 6 PM at the Lohman Pet Adoption Center\, located at 2364 LPGA Blvd. in Daytona Beach. \nEvery pet adopted from Halifax Humane Society has been examined by a veterinarian\, vaccinated\, spayed or neutered\, microchipped\, and started on heartworm and flea prevention\, giving you peace of mind as you welcome them home. \nMeet a variety of adoptable pets\, spend time finding the right fit for your family\, and bring home a new companion at no cost!
URL:https://www.halifaxhumanesociety.org/event/free-adoption-event-sponsored-by-hills-pet-nutrition/
LOCATION:Halifax Humane Society\, 2364 LPGA Blvd.\, Daytona Beach\, FL\, 32124\, United States
END:VEVENT
BEGIN:VEVENT
DTSTART;TZID=America/New_York:20260426T100000
DTEND;TZID=America/New_York:20260426T150000
DTSTAMP:20260424T175227
CREATED:20260219T213942Z
LAST-MODIFIED:20260422T140525Z
UID:781675-1777197600-1777215600@www.halifaxhumanesociety.org
SUMMARY:Brownie's 2026 Mutt Strut
DESCRIPTION:The 2026 Brownie’s Mutt Strut\, presented by Subaru of Daytona\, is the largest community fundraising event of the year for the Halifax Humane Society. Join two thousand humans and their canine companions at Riverfront Esplanade\, Daytona Beach\, Florida\, on Sunday\, April 26th\, to celebrate and raise funds for animals in need. \nThanks to our partners at Hill’s Pet Nutrition\, there is no cost to adopt any dog or cat on Sunday from 10 AM to 3 PM in the Pet Adoption Zone at Brownie’s Mutt Strut in Downtown Daytona Beach. \nEnjoy six activity zones\, including the world-famous DockDogs dock diving competition and the excitement of Daytona Disc Dogs professional trials. For humans\, we welcome Are Friends Electric to the main stage\, along with a curated craft beer garden and a food truck rally. \n\nEvent: Brownie’s 2026 Mutt Strut\nDate: April 26th\nTime: 10AM-3PM\nLocation: Riverfront Esplanade – Manatee Island\n355 North Beach Street Daytona Beach\, FL\, 32114 United States
URL:https://www.halifaxhumanesociety.org/event/brownies-2026-mutt-strut/
LOCATION:Riverfront Esplanade\, 179 S Beach St\, Daytona Beach\, FL\, 32114\, United States
ATTACH;FMTTYPE=image/jpeg:https://www.halifaxhumanesociety.org/wp-content/uploads/2025/05/MuttStrut2025318-scaled.jpg
END:VEVENT
BEGIN:VEVENT
DTSTART;TZID=America/New_York:20260510T133000
DTEND;TZID=America/New_York:20260510T150000
DTSTAMP:20260424T175227
CREATED:20260326T180355Z
LAST-MODIFIED:20260408T130423Z
UID:782443-1778419800-1778425200@www.halifaxhumanesociety.org
SUMMARY:Volunteer Orientation Sunday
DESCRIPTION:Sign up here: https://halifaxhumanesociety.galaxydigital.com/need/detail/?need_id=1072001
URL:https://www.halifaxhumanesociety.org/event/volunteer-orientation-saturday-8/
LOCATION:Halifax Humane Society\, 2364 LPGA Blvd.\, Daytona Beach\, FL\, 32124\, United States
END:VEVENT
BEGIN:VEVENT
DTSTART;TZID=America/New_York:20260513T123000
DTEND;TZID=America/New_York:20260513T140000
DTSTAMP:20260424T175227
CREATED:20260408T125633Z
LAST-MODIFIED:20260408T130445Z
UID:782727-1778675400-1778680800@www.halifaxhumanesociety.org
SUMMARY:Volunteer Orientation Wednesday
DESCRIPTION:Sign up here: https://halifaxhumanesociety.galaxydigital.com/need/detail/?need_id=1072001
URL:https://www.halifaxhumanesociety.org/event/volunteer-orientation-wednesday-6/
LOCATION:Halifax Humane Society\, 2364 LPGA Blvd.\, Daytona Beach\, FL\, 32124\, United States
END:VEVENT
BEGIN:VEVENT
DTSTART;TZID=America/New_York:20260516T100000
DTEND;TZID=America/New_York:20260516T113000
DTSTAMP:20260424T175227
CREATED:20260408T125748Z
LAST-MODIFIED:20260408T125748Z
UID:782729-1778925600-1778931000@www.halifaxhumanesociety.org
SUMMARY:Volunteer Orientation Saturday
DESCRIPTION:Sign up here: https://halifaxhumanesociety.galaxydigital.com/need/detail/?need_id=1072001
URL:https://www.halifaxhumanesociety.org/event/volunteer-orientation-saturday-10/
LOCATION:Halifax Humane Society\, 2364 LPGA Blvd.\, Daytona Beach\, FL\, 32124\, United States
END:VEVENT
BEGIN:VEVENT
DTSTART;TZID=America/New_York:20260523T100000
DTEND;TZID=America/New_York:20260523T140000
DTSTAMP:20260424T175227
CREATED:20260108T224534Z
LAST-MODIFIED:20260108T224534Z
UID:780620-1779530400-1779544800@www.halifaxhumanesociety.org
SUMMARY:PetSmart Joy Adoption Event
DESCRIPTION:
URL:https://www.halifaxhumanesociety.org/event/petsmart-joy-adoption-event-4/
LOCATION:PetSmart\, 1900 W International Speedway Blvd\, Daytona Beach\, 32114
END:VEVENT
BEGIN:VEVENT
DTSTART;TZID=America/New_York:20260524T133000
DTEND;TZID=America/New_York:20260524T150000
DTSTAMP:20260424T175227
CREATED:20260408T125858Z
LAST-MODIFIED:20260408T125859Z
UID:782731-1779629400-1779634800@www.halifaxhumanesociety.org
SUMMARY:Volunteer Orientation Sunday
DESCRIPTION:Sign up here: https://halifaxhumanesociety.galaxydigital.com/need/detail/?need_id=1072001
URL:https://www.halifaxhumanesociety.org/event/volunteer-orientation-sunday-7/
LOCATION:Halifax Humane Society\, 2364 LPGA Blvd.\, Daytona Beach\, FL\, 32124\, United States
END:VEVENT
BEGIN:VEVENT
DTSTART;TZID=America/New_York:20260529T114500
DTEND;TZID=America/New_York:20260529T123000
DTSTAMP:20260424T175227
CREATED:20260406T194627Z
LAST-MODIFIED:20260406T194852Z
UID:782682-1780055100-1780057800@www.halifaxhumanesociety.org
SUMMARY:WESH 2 the Rescue
DESCRIPTION:
URL:https://www.halifaxhumanesociety.org/event/wesh-2-the-rescue-4/
LOCATION:FL
END:VEVENT
BEGIN:VEVENT
DTSTART;TZID=America/New_York:20260530T100000
DTEND;TZID=America/New_York:20260530T113000
DTSTAMP:20260424T175227
CREATED:20260408T130023Z
LAST-MODIFIED:20260408T130023Z
UID:782733-1780135200-1780140600@www.halifaxhumanesociety.org
SUMMARY:Volunteer Orientation Saturday
DESCRIPTION:Sign up here: https://halifaxhumanesociety.galaxydigital.com/need/detail/?need_id=1072001
URL:https://www.halifaxhumanesociety.org/event/volunteer-orientation-saturday-11/
LOCATION:Halifax Humane Society\, 2364 LPGA Blvd.\, Daytona Beach\, FL\, 32124\, United States
END:VEVENT
BEGIN:VEVENT
DTSTART;TZID=America/New_York:20260627T100000
DTEND;TZID=America/New_York:20260627T140000
DTSTAMP:20260424T175227
CREATED:20260108T224559Z
LAST-MODIFIED:20260108T224559Z
UID:780622-1782554400-1782568800@www.halifaxhumanesociety.org
SUMMARY:PetSmart Joy Adoption Event
DESCRIPTION:
URL:https://www.halifaxhumanesociety.org/event/petsmart-joy-adoption-event-5/
LOCATION:PetSmart\, 1900 W International Speedway Blvd\, Daytona Beach\, 32114
END:VEVENT
BEGIN:VEVENT
DTSTART;TZID=America/New_York:20260710T114500
DTEND;TZID=America/New_York:20260710T123000
DTSTAMP:20260424T175227
CREATED:20260406T195024Z
LAST-MODIFIED:20260406T195024Z
UID:782685-1783683900-1783686600@www.halifaxhumanesociety.org
SUMMARY:WESH 2 the Rescue
DESCRIPTION:
URL:https://www.halifaxhumanesociety.org/event/wesh-2-the-rescue-5/
LOCATION:FL
END:VEVENT
BEGIN:VEVENT
DTSTART;TZID=America/New_York:20260725T100000
DTEND;TZID=America/New_York:20260725T140000
DTSTAMP:20260424T175227
CREATED:20260108T224641Z
LAST-MODIFIED:20260108T224641Z
UID:780624-1784973600-1784988000@www.halifaxhumanesociety.org
SUMMARY:PetSmart Joy Adoption Event
DESCRIPTION:
URL:https://www.halifaxhumanesociety.org/event/petsmart-joy-adoption-event-6/
LOCATION:PetSmart\, 1900 W International Speedway Blvd\, Daytona Beach\, 32114
END:VEVENT
BEGIN:VEVENT
DTSTART;TZID=America/New_York:20260821T114500
DTEND;TZID=America/New_York:20260821T123000
DTSTAMP:20260424T175227
CREATED:20260406T195104Z
LAST-MODIFIED:20260406T195104Z
UID:782687-1787312700-1787315400@www.halifaxhumanesociety.org
SUMMARY:WESH 2 the Rescue
DESCRIPTION:
URL:https://www.halifaxhumanesociety.org/event/wesh-2-the-rescue-6/
LOCATION:FL
END:VEVENT
BEGIN:VEVENT
DTSTART;TZID=America/New_York:20260822T100000
DTEND;TZID=America/New_York:20260822T140000
DTSTAMP:20260424T175227
CREATED:20260108T224712Z
LAST-MODIFIED:20260108T224712Z
UID:780626-1787392800-1787407200@www.halifaxhumanesociety.org
SUMMARY:PetSmart Joy Adoption Event
DESCRIPTION:
URL:https://www.halifaxhumanesociety.org/event/petsmart-joy-adoption-event-7/
LOCATION:PetSmart\, 1900 W International Speedway Blvd\, Daytona Beach\, 32114
END:VEVENT
BEGIN:VEVENT
DTSTART;TZID=America/New_York:20260926T100000
DTEND;TZID=America/New_York:20260926T140000
DTSTAMP:20260424T175227
CREATED:20260108T224741Z
LAST-MODIFIED:20260108T224741Z
UID:780628-1790416800-1790431200@www.halifaxhumanesociety.org
SUMMARY:PetSmart Joy Adoption Event
DESCRIPTION:
URL:https://www.halifaxhumanesociety.org/event/petsmart-joy-adoption-event-8/
LOCATION:PetSmart\, 1900 W International Speedway Blvd\, Daytona Beach\, 32114
END:VEVENT
BEGIN:VEVENT
DTSTART;TZID=America/New_York:20261024T100000
DTEND;TZID=America/New_York:20261024T140000
DTSTAMP:20260424T175227
CREATED:20260108T224800Z
LAST-MODIFIED:20260108T224800Z
UID:780630-1792836000-1792850400@www.halifaxhumanesociety.org
SUMMARY:PetSmart Joy Adoption Event
DESCRIPTION:
URL:https://www.halifaxhumanesociety.org/event/petsmart-joy-adoption-event-9/
LOCATION:PetSmart\, 1900 W International Speedway Blvd\, Daytona Beach\, 32114
END:VEVENT
END:VCALENDAR