BEGIN:VCALENDAR
VERSION:2.0
PRODID:-//Halifax Humane Society - ECPv6.15.20//NONSGML v1.0//EN
CALSCALE:GREGORIAN
METHOD:PUBLISH
X-WR-CALNAME:Halifax Humane Society
X-ORIGINAL-URL:https://www.halifaxhumanesociety.org
X-WR-CALDESC:Events for Halifax Humane Society
REFRESH-INTERVAL;VALUE=DURATION:PT1H
X-Robots-Tag:noindex
X-PUBLISHED-TTL:PT1H
BEGIN:VTIMEZONE
TZID:America/New_York
BEGIN:DAYLIGHT
TZOFFSETFROM:-0500
TZOFFSETTO:-0400
TZNAME:EDT
DTSTART:20250309T070000
END:DAYLIGHT
BEGIN:STANDARD
TZOFFSETFROM:-0400
TZOFFSETTO:-0500
TZNAME:EST
DTSTART:20251102T060000
END:STANDARD
BEGIN:DAYLIGHT
TZOFFSETFROM:-0500
TZOFFSETTO:-0400
TZNAME:EDT
DTSTART:20260308T070000
END:DAYLIGHT
BEGIN:STANDARD
TZOFFSETFROM:-0400
TZOFFSETTO:-0500
TZNAME:EST
DTSTART:20261101T060000
END:STANDARD
BEGIN:DAYLIGHT
TZOFFSETFROM:-0500
TZOFFSETTO:-0400
TZNAME:EDT
DTSTART:20270314T070000
END:DAYLIGHT
BEGIN:STANDARD
TZOFFSETFROM:-0400
TZOFFSETTO:-0500
TZNAME:EST
DTSTART:20271107T060000
END:STANDARD
END:VTIMEZONE
BEGIN:VEVENT
DTSTART;TZID=America/New_York:20260425T120000
DTEND;TZID=America/New_York:20260425T180000
DTSTAMP:20260422T121538
CREATED:20260422T140100Z
LAST-MODIFIED:20260422T140211Z
UID:783134-1777118400-1777140000@www.halifaxhumanesociety.org
SUMMARY:Free Adoption Event Sponsored by Hill’s Pet Nutrition
DESCRIPTION:Thanks to our partners at Hill’s Pet Nutrition\, all dog and cat adoptions are completely free on Saturday from 12 PM to 6 PM at the Lohman Pet Adoption Center\, located at 2364 LPGA Blvd. in Daytona Beach. \nEvery pet adopted from Halifax Humane Society has been examined by a veterinarian\, vaccinated\, spayed or neutered\, microchipped\, and started on heartworm and flea prevention\, giving you peace of mind as you welcome them home. \nMeet a variety of adoptable pets\, spend time finding the right fit for your family\, and bring home a new companion at no cost!
URL:https://www.halifaxhumanesociety.org/event/free-adoption-event-sponsored-by-hills-pet-nutrition/
LOCATION:Halifax Humane Society\, 2364 LPGA Blvd.\, Daytona Beach\, FL\, 32124\, United States
END:VEVENT
END:VCALENDAR