BEGIN:VCALENDAR
VERSION:2.0
PRODID:-//Halifax Humane Society - ECPv6.15.20//NONSGML v1.0//EN
CALSCALE:GREGORIAN
METHOD:PUBLISH
X-WR-CALNAME:Halifax Humane Society
X-ORIGINAL-URL:https://www.halifaxhumanesociety.org
X-WR-CALDESC:Events for Halifax Humane Society
REFRESH-INTERVAL;VALUE=DURATION:PT1H
X-Robots-Tag:noindex
X-PUBLISHED-TTL:PT1H
BEGIN:VTIMEZONE
TZID:America/New_York
BEGIN:DAYLIGHT
TZOFFSETFROM:-0500
TZOFFSETTO:-0400
TZNAME:EDT
DTSTART:20250309T070000
END:DAYLIGHT
BEGIN:STANDARD
TZOFFSETFROM:-0400
TZOFFSETTO:-0500
TZNAME:EST
DTSTART:20251102T060000
END:STANDARD
BEGIN:DAYLIGHT
TZOFFSETFROM:-0500
TZOFFSETTO:-0400
TZNAME:EDT
DTSTART:20260308T070000
END:DAYLIGHT
BEGIN:STANDARD
TZOFFSETFROM:-0400
TZOFFSETTO:-0500
TZNAME:EST
DTSTART:20261101T060000
END:STANDARD
BEGIN:DAYLIGHT
TZOFFSETFROM:-0500
TZOFFSETTO:-0400
TZNAME:EDT
DTSTART:20270314T070000
END:DAYLIGHT
BEGIN:STANDARD
TZOFFSETFROM:-0400
TZOFFSETTO:-0500
TZNAME:EST
DTSTART:20271107T060000
END:STANDARD
END:VTIMEZONE
BEGIN:VEVENT
DTSTART;VALUE=DATE:20260402
DTEND;VALUE=DATE:20260403
DTSTAMP:20260424T163532
CREATED:20260127T173552Z
LAST-MODIFIED:20260127T173552Z
UID:781181-1775088000-1775174399@www.halifaxhumanesociety.org
SUMMARY:Running Buddies
DESCRIPTION:Saturday\, February 5th\nRunning Buddies with Marine ROTC\nIf your organization is interested in hosting a Running Buddies\, contact volunteers@halifaxhumanesociety.org
URL:https://www.halifaxhumanesociety.org/event/running-buddies-9/
LOCATION:FL
END:VEVENT
END:VCALENDAR